BEGIN:VCALENDAR
VERSION:2.0
PRODID:-//Edgewood Church Atlanta |  Inclusive Christian Community in East Atlanta / Kirkwood / Edgewood - ECPv6.14.2//NONSGML v1.0//EN
CALSCALE:GREGORIAN
METHOD:PUBLISH
X-WR-CALNAME:Edgewood Church Atlanta |  Inclusive Christian Community in East Atlanta / Kirkwood / Edgewood
X-ORIGINAL-URL:https://edgewoodchurchatlanta.org
X-WR-CALDESC:Events for Edgewood Church Atlanta |  Inclusive Christian Community in East Atlanta / Kirkwood / Edgewood
REFRESH-INTERVAL;VALUE=DURATION:PT1H
X-Robots-Tag:noindex
X-PUBLISHED-TTL:PT1H
BEGIN:VTIMEZONE
TZID:UTC
BEGIN:STANDARD
TZOFFSETFROM:+0000
TZOFFSETTO:+0000
TZNAME:UTC
DTSTART:20220101T000000
END:STANDARD
END:VTIMEZONE
BEGIN:VEVENT
DTSTART;TZID=UTC:20220928T190000
DTEND;TZID=UTC:20220928T200000
DTSTAMP:20260419T181326
CREATED:20220923T213136Z
LAST-MODIFIED:20220923T213136Z
UID:6660-1664391600-1664395200@edgewoodchurchatlanta.org
SUMMARY:Bible Study
DESCRIPTION:Weekly on Wednesday @ 7pm and limited to 1 hour. We end promptly at 8pm. \nOpen to all no matter what you know or don’t know about reading the Bible. \nWe read one chapter each week and ask these three questions: \nWhat does this say about God? \nWhat does this say about us? \nWhat does this say about how I should live? \nEveryone is here to learn and grow. You are welcome to share or just observe.
URL:https://edgewoodchurchatlanta.org/event/bible-study/
LOCATION:Blue Room @ Edgewood Church\, 1560 Memorial Drive SE\, Atlanta\, 30317\, United States
CATEGORIES:Bible Study,Edgewood Church
ATTACH;FMTTYPE=image/png:https://edgewoodchurchatlanta.org/wp-content/uploads/2022/09/Bible-Study-16-×-9-cm.png
ORGANIZER;CN="Edgewood Church":MAILTO:pastor@edgewoodchurchatlanta.org
END:VEVENT
END:VCALENDAR